BEGIN:VCALENDAR
VERSION:2.0
PRODID:icalendar-ruby
CALSCALE:GREGORIAN
BEGIN:VEVENT
DTSTAMP:20260420T080711Z
UID:c94c3ecb-079a-4146-9110-71b2e94d1fd9
DTSTART;VALUE=DATE:20250226
DESCRIPTION:Property ID# 586764\, Locatoin: Holmwood Auction Rooms\, 397 Il
 am Road\, Time: 10:00AM
SUMMARY:Auction for 
END:VEVENT
END:VCALENDAR
