BEGIN:VCALENDAR
VERSION:2.0
PRODID:icalendar-ruby
CALSCALE:GREGORIAN
BEGIN:VEVENT
DTSTAMP:20260420T075819Z
UID:37419d3e-c0c8-4987-9a23-c849624ece06
DTSTART;VALUE=DATE:20250318
DESCRIPTION:Property ID# 588748\, Locatoin: Harcourts Holmwood\, Ilam 2 Off
 ice\, 397 Ilam Road \, Time: 4:00PM
SUMMARY:Auction for 
END:VEVENT
END:VCALENDAR
