BEGIN:VCALENDAR
VERSION:2.0
PRODID:icalendar-ruby
CALSCALE:GREGORIAN
BEGIN:VEVENT
DTSTAMP:20260420T081804Z
UID:25d700ad-5d37-4013-bf50-24f55bb8904e
DTSTART;VALUE=DATE:20250828
DESCRIPTION:Property ID# 595448\, Time: 12:00PM
SUMMARY:Auction for 
END:VEVENT
END:VCALENDAR
