BEGIN:VCALENDAR
VERSION:2.0
PRODID:icalendar-ruby
CALSCALE:GREGORIAN
BEGIN:VEVENT
DTSTAMP:20260422T112306Z
UID:485e3ccb-0e55-404b-86b1-df526e50c692
DTSTART;VALUE=DATE:20251007
DESCRIPTION:Property ID# 597348\, Time: 1:00PM
SUMMARY:Auction for 
END:VEVENT
END:VCALENDAR
