BEGIN:VCALENDAR
VERSION:2.0
PRODID:icalendar-ruby
CALSCALE:GREGORIAN
BEGIN:VEVENT
DTSTAMP:20260420T075819Z
UID:04ed2970-bbe2-4029-849d-21740a7384de
DTSTART;VALUE=DATE:20260319
DESCRIPTION:Property ID# 604459\, Locatoin: Holmwood Auction Rooms\, 397 Il
 am Road\, Time: 10:00AM
SUMMARY:Auction for 430A Greers Road
END:VEVENT
END:VCALENDAR
