BEGIN:VCALENDAR
VERSION:2.0
PRODID:icalendar-ruby
CALSCALE:GREGORIAN
BEGIN:VEVENT
DTSTAMP:20260422T111827Z
UID:ad20afca-d894-451a-9b14-a62b1d88e10c
DTSTART;VALUE=DATE:20260407
DESCRIPTION:Property ID# 605110\, Time: 12:00PM
SUMMARY:Auction for 21 Lewis Close
END:VEVENT
END:VCALENDAR
