BEGIN:VCALENDAR
VERSION:2.0
PRODID:icalendar-ruby
CALSCALE:GREGORIAN
BEGIN:VEVENT
DTSTAMP:20260422T112200Z
UID:dc8336aa-7f11-4219-8e80-21c61b9706aa
DTSTART;VALUE=DATE:20260401
DESCRIPTION:Property ID# 605111\, Locatoin: 3 Deans Avenue\, Riccarton\, Ch
 ristchurch\, Time: 12:00PM
SUMMARY:Auction for 18 Elm Drive
END:VEVENT
END:VCALENDAR
